BEGIN:VCALENDAR
VERSION:2.0
PRODID:-//czu.cz//NONSGML kigkonsult.se iCalcreator 2.12//
METHOD:PUBLISH
X-WR-TIMEZONE:Europe/Prague
X-WR-CALNAME:CZU Event Calendar
BEGIN:VEVENT
UID:3e3aa687770f55c704ca997c3be81634@czu.cz
DTSTAMP:20260422T105108Z
CATEGORIES:CZU,PĹ™EDNĂˇĹˇKY A SEMINĂˇĹ™E
CONTACT:Ing. Martin ÄŚejka\; --
CLASS:PUBLIC
DESCRIPTION:[Event Info]\nCo se dÄ›je s modelem od vytvoĹ™enĂ­ po jeho prod
 ukÄŤnĂ­ nasazenĂ­? JakĂ˝m technickĂ˝m vĂ˝zvĂˇm je nutnĂ© ÄŤelit? PĹ™ijÄŹte
  na workshop\, kde se dovĂ­te o cestÄ› pro ĹľivotnĂ­m cyklu modelĹŻ AI.\n
 \nVĂ­ce informacĂ­ takĂ© na FB: https://www.facebook.com/events/3689443460
 72385/?acontext=%7B%22event_action_history%22%3A[]%7D\n\n[Event Contact]\n
 Name: Ing. Martin ÄŚejka\nPhone: --\nEmail: cejkamartin@pef.czu.cz\nOffice
 : --\nURL: http://wp.czu.cz/person/27337\n\n[Event Garant]\nName: Ing. Mar
 tin ÄŚejka\nPhone: --\nEmail: cejkamartin@pef.czu.cz\nOffice: --\nURL: htt
 p://wp.czu.cz/person/27337\n\n[Event WWW]\nhttps://katedry.czu.cz/kii/aibr
 idge\n\n[Organizer]\nDepartment of Information Engineering\nDepartment of 
 Information Engineering
DTSTART;VALUE=DATE:20240424
DTEND;VALUE=DATE:20240424
LAST-MODIFIED:20240409T112742Z
LOCATION:ProvoznÄ› ekonomickĂˇ fakulta v Praze
SUMMARY:NasazenĂ­ modelĹŻ ML do produkce - Workshop iniciativy AI BRIDGE
END:VEVENT
END:VCALENDAR
