BEGIN:VCALENDAR
VERSION:2.0
PRODID:-//czu.cz//NONSGML kigkonsult.se iCalcreator 2.12//
METHOD:PUBLISH
X-WR-TIMEZONE:Europe/Prague
X-WR-CALNAME:CZU Event Calendar
BEGIN:VEVENT
UID:9a32ff36c65e8ba30915a21b7bd76506@czu.cz
DTSTAMP:20260421T161741Z
CATEGORIES:CZU,DNY OTEVĹ™ENĂ˝CH DVEĹ™Ă­
CONTACT:
CLASS:PUBLIC
DESCRIPTION:\n[Event Contact]\nName: \n\n[Event Garant]\nName: \n\n\n[Organ
 izer]\n
DTSTART;VALUE=DATE:20231007
DTEND;VALUE=DATE:20231008
LAST-MODIFIED:20260421T161741Z
LOCATION:Arboretum FLD
SUMMARY:Den otevĹ™enĂ˝ch dveĹ™Ă­ Arboretum FLD
END:VEVENT
END:VCALENDAR
