BEGIN:VCALENDAR
VERSION:2.0
PRODID:-//czu.cz//NONSGML kigkonsult.se iCalcreator 2.12//
METHOD:PUBLISH
X-WR-TIMEZONE:Europe/Prague
X-WR-CALNAME:CZU Event Calendar
BEGIN:VEVENT
UID:f35a2bc72dfdc2aae569a0c7370bd7f5@czu.cz
DTSTAMP:20260420T094134Z
CATEGORIES:CZU,PĹ™EDNĂˇĹˇKY A SEMINĂˇĹ™E
CONTACT:Mgr. PĹ™emysl Gubani\; --
CLASS:PUBLIC
DESCRIPTION:[Event Info]\nGrowJob vĂˇm pomĹŻĹľe s chronicky aktuĂˇlnĂ­m tĂ©
 matem â€“ KONEC PROKRASTINACE. Napsali bychom toho vĂ­ce\, aleâ€¦vĹˇak vĂ­
 te mĂˇme nÄ›co dĹŻleĹľitÄ›jĹˇĂ­ho \;)... MĂ­st je zdĂˇnlivÄ› hodnÄ›\, ale 
 extrĂ©mnÄ› rychle se plnĂ­.\n\n[Event Contact]\nName: Mgr. PĹ™emysl Gubani
 \nPhone: --\nEmail: gubani@rektorat.czu.cz\nOffice: RE/406\nURL: http://wp
 .czu.cz/person/17549\n\n[Event Garant]\nName: Mgr. PĹ™emysl Gubani\nPhone:
  --\nEmail: gubani@rektorat.czu.cz\nOffice: RE/406\nURL: http://wp.czu.cz/
 person/17549\n\n[Event WWW]\n \n\n[Organizer]\nCareer Center\nCareer Cente
 r
DTSTART;VALUE=DATE:20211206
DTEND;VALUE=DATE:20211206
LAST-MODIFIED:20211118T125710Z
LOCATION:online
SUMMARY:GrowJOB: Konec prokrastinace - webinĂˇĹ™
END:VEVENT
END:VCALENDAR
