BEGIN:VCALENDAR
VERSION:2.0
PRODID:-//czu.cz//NONSGML kigkonsult.se iCalcreator 2.12//
METHOD:PUBLISH
X-WR-TIMEZONE:Europe/Prague
X-WR-CALNAME:CZU Event Calendar
BEGIN:VEVENT
UID:8c1b6fa97c4288a4514365198566c6fa@czu.cz
DTSTAMP:20260420T090240Z
CATEGORIES:CZU,PĹ™EDNĂˇĹˇKY A SEMINĂˇĹ™E
CONTACT:Mgr. PĹ™emysl Gubani\; --
CLASS:PUBLIC
DESCRIPTION:[Event Info]\nWebinĂˇĹ™ Jak se hledĂˇ prĂˇce v 21. stoletĂ­ ted
 y opÄ›t CVÄŤka\, motivĂˇky a pohovory. Ale mnoho dalĹˇĂ­ho. Tato konkrĂ©tn
 Ă­ edice se bude soustĹ™edit na veletrh pracovnĂ­ch pĹ™Ă­leĹľitostĂ­\, jak
 o skvÄ›lĂ© pĹ™Ă­leĹľitosti.\n\n\n[Event Contact]\nName: Mgr. PĹ™emysl Guba
 ni\nPhone: --\nEmail: gubani@rektorat.czu.cz\nOffice: RE/406\nURL: http://
 wp.czu.cz/person/17549\n\n[Event Garant]\nName: Mgr. PĹ™emysl Gubani\nPhon
 e: --\nEmail: gubani@rektorat.czu.cz\nOffice: RE/406\nURL: http://wp.czu.c
 z/person/17549\n\n[Event WWW]\n \n\n[Organizer]\nCareer Center\nCareer Cen
 ter
DTSTART;VALUE=DATE:20210316
DTEND;VALUE=DATE:20210316
LAST-MODIFIED:20210316T155405Z
LOCATION:webinĂˇĹ™ - online
SUMMARY:Jak se hledĂˇ prĂˇce v 21. stoletĂ­ - VPP edition 
END:VEVENT
END:VCALENDAR
