BEGIN:VCALENDAR
VERSION:2.0
PRODID:-//czu.cz//NONSGML kigkonsult.se iCalcreator 2.12//
METHOD:PUBLISH
X-WR-TIMEZONE:Europe/Prague
X-WR-CALNAME:CZU Event Calendar
BEGIN:VEVENT
UID:d9fc0cdb67638d50f411432d0d41d0ba@czu.cz
DTSTAMP:20260422T060705Z
CATEGORIES:CZU,KONFERENCE
CONTACT:Mgr. PĹ™emysl Gubani\; --
CLASS:PUBLIC
DESCRIPTION:\n[Event Contact]\nName: Mgr. PĹ™emysl Gubani\nPhone: --\nEmail
 : gubani@rektorat.czu.cz\nOffice: RE/406\nURL: http://wp.czu.cz/person/175
 49\n\n[Event Garant]\nName: Mgr. PĹ™emysl Gubani\nPhone: --\nEmail: gubani
 @rektorat.czu.cz\nOffice: RE/406\nURL: http://wp.czu.cz/person/17549\n\n\n
 [Organizer]\nCareer Center\nCareer Center
DTSTART;VALUE=DATE:20210325
LAST-MODIFIED:20260422T060705Z
LOCATION:
SUMMARY:Veletrh pracovnĂ­ch pĹ™Ă­leĹľitostĂ­ 
END:VEVENT
END:VCALENDAR
