BEGIN:VCALENDAR
VERSION:2.0
PRODID:-//czu.cz//NONSGML kigkonsult.se iCalcreator 2.12//
METHOD:PUBLISH
X-WR-TIMEZONE:Europe/Prague
X-WR-CALNAME:CZU Event Calendar
BEGIN:VEVENT
UID:10c66082c124f8afe3df4886f5e516e0@czu.cz
DTSTAMP:20260420T134101Z
CATEGORIES:CZU,Ĺ KOLENĂ­\, KURZY A TESTOVĂˇNĂ­
CONTACT:Ing. Barbora HofmanovĂˇ\, Ph.D.\; +420 22438 2561
CLASS:PUBLIC
DESCRIPTION:[Event Info]\nV pĹ™Ă­padÄ› nepĹ™Ă­znivĂ© situace kurz probÄ›hne
  distanÄŤnÄ› (ONLINE).\n\n[Event Contact]\nName: Ing. Barbora HofmanovĂˇ\,
  Ph.D.\nPhone: +420 22438 2561\nEmail: hofmanova@af.czu.cz\nOffice: AFB/43
 2\nURL: http://wp.czu.cz/person/1978\n\n[Event Garant]\nName: Ing. Barbora
  HofmanovĂˇ\, Ph.D.\nPhone: +420 22438 2561\nEmail: hofmanova@af.czu.cz\nO
 ffice: AFB/432\nURL: http://wp.czu.cz/person/1978\n\n[Event WWW]\nhttps://
 www.af.czu.cz/cs/r-7181-aktuality-fappz/kurz-k-prodlouzeni-doby-platnosti-
 osvedceni-o-odborne-zpusob.html\n\n[Organizer]\nDepartment of Ethology and
  Companion Animal Science\nDepartment of Ethology and Companion Animal Sci
 ence
DTSTART;VALUE=DATE:20201214
DTEND;VALUE=DATE:20201214
LAST-MODIFIED:20260420T134101Z
LOCATION:AreĂˇl ÄŚeskĂ© zemÄ›dÄ›lskĂ© univerzity v Praze
SUMMARY:Kurz k prodlouĹľenĂ­ doby platnosti osvÄ›dÄŤenĂ­ o odbornĂ© zpĹŻsob
 ilosti k navrhovĂˇnĂ­ pokusĹŻ
END:VEVENT
END:VCALENDAR
