BEGIN:VCALENDAR
VERSION:2.0
PRODID:-//czu.cz//NONSGML kigkonsult.se iCalcreator 2.12//
METHOD:PUBLISH
X-WR-TIMEZONE:Europe/Prague
X-WR-CALNAME:CZU Event Calendar
BEGIN:VEVENT
UID:c65d7bd70fe3e5e3a2f3de681edc193d@czu.cz
DTSTAMP:20260420T090155Z
CATEGORIES:CZU,DNY OTEVĹ™ENĂ˝CH DVEĹ™Ă­
CONTACT:Ing. Barbora HofmanovĂˇ\, Ph.D.\; +420 22438 2561
CLASS:PUBLIC
DESCRIPTION:[Event Info]\nKurz odbornĂ© pĹ™Ă­pravy k zĂ­skĂˇnĂ­ kvalifikace
  a odbornĂ© zpĹŻsobilosti na Ăşseku pokusnĂ˝ch zvĂ­Ĺ™at dle Â§15d odstavce
  2 pĂ­smeno a) zĂˇkona ÄŤ. 246/1992 Sb.\, na ochranu zvĂ­Ĺ™at proti tĂ˝rĂˇ
 nĂ­\, v platnĂ©m znÄ›nĂ­ (navrhovĂˇnĂ­ pokusĹŻ a projektĹŻ pokusĹŻ - urÄŤe
 no pro lĂ©kaĹ™e\, veterinĂˇrnĂ­ lĂ©kaĹ™e a osoby s jinĂ˝m vysokoĹˇkolskĂ˝m
  vzdÄ›lĂˇnĂ­m biologickĂ©ho oboru)\n\n[Event Contact]\nName: Ing. Barbora 
 HofmanovĂˇ\, Ph.D.\nPhone: +420 22438 2561\nEmail: hofmanova@af.czu.cz\nOf
 fice: AFB/432\nURL: http://wp.czu.cz/person/1978\n\n[Event Garant]\nName: 
 Ing. Barbora HofmanovĂˇ\, Ph.D.\nPhone: +420 22438 2561\nEmail: hofmanova@
 af.czu.cz\nOffice: AFB/432\nURL: http://wp.czu.cz/person/1978\n\n[Event WW
 W]\nhttps://www.af.czu.cz/cs/r-7181-aktuality-fappz/kurz-odborne-pripravy-
 k-ziskani-kvalifikace-pro-vs-pracovnik.html\n\n[Organizer]\nDepartment of 
 Ethology and Companion Animal Science\nDepartment of Ethology and Companio
 n Animal Science
DTSTART;VALUE=DATE:20200921
DTEND;VALUE=DATE:20200925
LAST-MODIFIED:20200818T092233Z
LOCATION:AreĂˇl ÄŚeskĂ© zemÄ›dÄ›lskĂ© univerzity v Praze
SUMMARY:Kurz odbornĂ© pĹ™Ă­pravy k zĂ­skĂˇnĂ­ kvalifikace (pro VĹ  pracovnĂ
 ­ky)
END:VEVENT
END:VCALENDAR
