BEGIN:VCALENDAR
VERSION:2.0
PRODID:-//czu.cz//NONSGML kigkonsult.se iCalcreator 2.12//
METHOD:PUBLISH
X-WR-TIMEZONE:Europe/Prague
X-WR-CALNAME:CZU Event Calendar
BEGIN:VEVENT
UID:b6cda17abb967ed28ec9610137aa45f7@czu.cz
DTSTAMP:20260419T143025Z
CATEGORIES:CZU,PĹ™EDNĂˇĹˇKY A SEMINĂˇĹ™E
CONTACT:Mgr. PĹ™emysl Gubani\; --
CLASS:PUBLIC
DESCRIPTION:[Event Info]\nPĹ™ednĂˇĹˇka v rĂˇmci Veletrhu pracovnĂ­ch pĹ™Ă­l
 eĹľitostĂ­ 2020.\nPĹ™ednĂˇĹˇĂ­ - AdĂ©la NevrlĂˇ a ZbynÄ›k ChlĂˇdek .\n\n[E
 vent Contact]\nName: Mgr. PĹ™emysl Gubani\nPhone: --\nEmail: gubani@rektor
 at.czu.cz\nOffice: RE/406\nURL: http://wp.czu.cz/person/17549\n\n[Event Ga
 rant]\nName: Mgr. PĹ™emysl Gubani\nPhone: --\nEmail: gubani@rektorat.czu.c
 z\nOffice: RE/406\nURL: http://wp.czu.cz/person/17549\n\n\n[Organizer]\nCa
 reer Center\nCareer Center
DTSTART;VALUE=DATE:20200227
DTEND;VALUE=DATE:20200227
LAST-MODIFIED:20260419T143025Z
LOCATION:RKUI
SUMMARY:VPP: Alza.cz - Customer Experience / Candidate Experience
END:VEVENT
END:VCALENDAR
