BEGIN:VCALENDAR
VERSION:2.0
PRODID:-//czu.cz//NONSGML kigkonsult.se iCalcreator 2.12//
METHOD:PUBLISH
X-WR-TIMEZONE:Europe/Prague
X-WR-CALNAME:CZU Event Calendar
BEGIN:VEVENT
UID:a11f9e533f28593768ebf87075ab34f2@czu.cz
DTSTAMP:20260426T010728Z
CATEGORIES:CZU,PĹ™EDNĂˇĹˇKY A SEMINĂˇĹ™E
CONTACT:Mgr. PĹ™emysl Gubani\; --
CLASS:PUBLIC
DESCRIPTION:[Event Info]\nPĹ™ednĂˇĹˇka v rĂˇmci Veletrhu pracovnĂ­ch pĹ™Ă­l
 eĹľitostĂ­ 2020.\nPĹ™ednĂˇĹˇĂ­ - Petra KolĂˇĹ™ovĂˇ\, Josef JilemickĂ˝.\n\n
 [Event Contact]\nName: Mgr. PĹ™emysl Gubani\nPhone: --\nEmail: gubani@rekt
 orat.czu.cz\nOffice: RE/406\nURL: http://wp.czu.cz/person/17549\n\n[Event 
 Garant]\nName: Mgr. PĹ™emysl Gubani\nPhone: --\nEmail: gubani@rektorat.czu
 .cz\nOffice: RE/406\nURL: http://wp.czu.cz/person/17549\n\n\n[Organizer]\n
 Career Center\nCareer Center
DTSTART;VALUE=DATE:20200227
DTEND;VALUE=DATE:20200227
LAST-MODIFIED:20260426T010728Z
LOCATION:RKUI
SUMMARY:VPP: Starbucks - vĂ­c neĹľ kĂˇva
END:VEVENT
END:VCALENDAR
