BEGIN:VCALENDAR
VERSION:2.0
PRODID:-//czu.cz//NONSGML kigkonsult.se iCalcreator 2.12//
METHOD:PUBLISH
X-WR-TIMEZONE:Europe/Prague
X-WR-CALNAME:CZU Event Calendar
BEGIN:VEVENT
UID:ef8446f35513a8d6aa2308357a268a7e@czu.cz
DTSTAMP:20260421T110720Z
CATEGORIES:CZU,VĂ˝STAVY
CONTACT:
CLASS:PUBLIC
DESCRIPTION:[Event Info]\nEvropskĂ˝ veletrh pomaturitnĂ­ho a celoĹľivotnĂ­h
 o vzdÄ›lĂˇvĂˇnĂ­ pro studenty z celĂ© ÄŚR. Ĺ koly z Prahy\, celĂ© ÄŚeskĂ© 
 republiky i ze zahraniÄŤĂ­. 10 000+ nĂˇvĹˇtÄ›vnĂ­kĹŻ\,\n190+ vystavovatelĹ
 Ż\, 70+ zahraniÄŤnĂ­ch vystavovatelĹŻ\, 3 dny.\n\n[Event Contact]\nName: 
 \n\n[Event Garant]\nName: \n\n[Event WWW]\nhttps://gaudeamus.cz/praha\n\n[
 Organizer]\n
DTSTART;VALUE=DATE:20190122
DTEND;VALUE=DATE:20190124
LAST-MODIFIED:20260421T110720Z
LOCATION:
SUMMARY:Gaudeamus Praha
END:VEVENT
END:VCALENDAR
